BEGIN:VCALENDAR
VERSION:2.0
PRODID:-//La Reliance - ECPv4.6.23//NONSGML v1.0//EN
CALSCALE:GREGORIAN
METHOD:PUBLISH
X-WR-CALNAME:La Reliance
X-ORIGINAL-URL:https://lareliance.ch
X-WR-CALDESC:Évènements pour La Reliance
BEGIN:VEVENT
DTSTART;TZID=Europe/Zurich:20260506T190000
DTEND;TZID=Europe/Zurich:20260506T190000
DTSTAMP:20260424T191838
CREATED:20251220T183900Z
LAST-MODIFIED:20260412T150551Z
UID:1799-1778094000-1778094000@lareliance.ch
SUMMARY:Maintenance Reiki Usui
DESCRIPTION:Pour toutes personnes initiées au Reiki Usui\, participez à nos maintenances Reiki\, pour pratiquer et parfaire vos connaissances. \nInscription: Info@lareliance.ch\n
URL:https://lareliance.ch/evenement/maintenance-reiki-usui-21/
LOCATION:Pavillon du Foyer de la Côte 2035 Corcelles
CATEGORIES:Maintenance Reiki Usui
ATTACH;FMTTYPE=image/jpeg:https://lareliance.ch/wp-content/uploads/2022/03/20210917_210222.jpg
END:VEVENT
BEGIN:VEVENT
DTSTART;TZID=Europe/Zurich:20260617T190000
DTEND;TZID=Europe/Zurich:20260617T220000
DTSTAMP:20260424T191838
CREATED:20260323T185910Z
LAST-MODIFIED:20260412T151600Z
UID:1847-1781722800-1781733600@lareliance.ch
SUMMARY:Maintenance  Toucher Thérapeutique®
DESCRIPTION:Ce sont des belles occasions d’approfondir les connaissances acquises lors d’un cours de TT. Elles permettent de donner et recevoir un soin en bénéficiant de l’énergie du groupe. \nInscription: Info@lareliance.ch\nLa maintenance aura lieu au Pavillon du Foyer de la Côte à Corcelles \n
URL:https://lareliance.ch/evenement/maintenance-toucher-therapeutique-32/
CATEGORIES:Maintenance toucher thérapeutique
ATTACH;FMTTYPE=image/jpeg:https://lareliance.ch/wp-content/uploads/2020/02/mains-2--e1581508313823.jpg
END:VEVENT
BEGIN:VEVENT
DTSTART;TZID=Europe/Zurich:20260620T093000
DTEND;TZID=Europe/Zurich:20260621T183000
DTSTAMP:20260424T191838
CREATED:20251009T160531Z
LAST-MODIFIED:20260412T153427Z
UID:1735-1781947800-1782066600@lareliance.ch
SUMMARY:Cours de Toucher Thérapeutique®4 + Kriya massage
DESCRIPTION:Méthode énergétique holistique favorisant l’harmonisation des corps physique\, émotionnel\, mental et spirituel. Cette méthode stimule le processus d’auto-guérison. Elle a été développée aux Etats-Unis et est acceptée par la médecine classique. Dans ce cours nous apprendrons à utiliser des pierres de soin avec le Toucher Thérapeutique®\, une harmonisation avec les 5 éléments. Ainsi qu’une méthode de massage énergétique: le kriya massage. \nPrérequis : avoir suivi les cours de Toucher Thérapeutique® 1-2\,3 avec nous.\nDans le prix du cours sont compris : manuel de cours\, certificat\, huile de massage et set de pierres  \nInscription: Info@lareliance.ch\n
URL:https://lareliance.ch/evenement/cours-de-toucher-therapeutique4-kriya-massage-11/
CATEGORIES:Formation,Kriya Massage (Niveau IV),Toucher thérapeutique
ATTACH;FMTTYPE=image/jpeg:https://lareliance.ch/wp-content/uploads/2021/01/Toucher-Thérapeutique-e1611928667740.jpg
END:VEVENT
BEGIN:VEVENT
DTSTART;TZID=Europe/Zurich:20260826T190000
DTEND;TZID=Europe/Zurich:20260826T220000
DTSTAMP:20260424T191838
CREATED:20260412T150454Z
LAST-MODIFIED:20260412T150829Z
UID:1861-1787770800-1787781600@lareliance.ch
SUMMARY:Maintenance Reiki Usui
DESCRIPTION:Pour toutes personnes initiées au Reiki Usui\, participez à nos maintenances Reiki\, pour pratiquer et parfaire vos connaissances. \nInscription: Info@lareliance.ch\n
URL:https://lareliance.ch/evenement/maintenance-reiki-usui-27/
CATEGORIES:Formation,Maintenance Reiki Usui
ATTACH;FMTTYPE=image/jpeg:https://lareliance.ch/wp-content/uploads/2022/03/20210917_210222.jpg
END:VEVENT
BEGIN:VEVENT
DTSTART;TZID=Europe/Zurich:20260828T190000
DTEND;TZID=Europe/Zurich:20260830T183000
DTSTAMP:20260424T191838
CREATED:20260323T184028Z
LAST-MODIFIED:20260323T192621Z
UID:1841-1787943600-1788114600@lareliance.ch
SUMMARY:Cours de Reiki Usui I
DESCRIPTION:Dans le niveau 1\, nous approcherons de façon succincte l’aura et les chakras. Nous développerons la connexion à l’énergie universelle. Nous pratiquerons la méditation qui nous permet de calmer notre mental. Nous apprendrons l’auto-traitement et le traitement d’autres personnes. L’enseignement de ce 1er niveau est donné dans le cadre d’un cours de deux jours et demi et chacun saura pratiquer l’auto-traitement et saura donner un soin. \nCe cours se déroule  le vendredi soir de 19h à 22h et samedi et dimanche de 9h30 à 18h pour un total de 19 heures \nInscription: Info@lareliance.ch\n
URL:https://lareliance.ch/evenement/1841/
CATEGORIES:Cours de Reiki Usui,Formation,Niveau I
ATTACH;FMTTYPE=image/jpeg:https://lareliance.ch/wp-content/uploads/2018/06/mikao_usui-e1609792967269.jpg
END:VEVENT
BEGIN:VEVENT
DTSTART;TZID=Europe/Zurich:20260909T190000
DTEND;TZID=Europe/Zurich:20260909T220000
DTSTAMP:20260424T191838
CREATED:20251221T095410Z
LAST-MODIFIED:20260323T190621Z
UID:1801-1788980400-1788991200@lareliance.ch
SUMMARY:Maintenance  Toucher Thérapeutique®
DESCRIPTION:Ce sont des belles occasions d’approfondir les connaissances acquises lors d’un cours de TT. Elles permettent de donner et recevoir un soin en bénéficiant de l’énergie du groupe. \nInscription: Info@lareliance.ch\nLa maintenance aura lieu au Pavillon du Foyer de la Côte à 2035 Corcelles \n
URL:https://lareliance.ch/evenement/1801/
LOCATION:Pavillon du Foyer de la Côte 2035 Corcelles
CATEGORIES:Maintenance toucher thérapeutique,Toucher thérapeutique
ATTACH;FMTTYPE=image/jpeg:https://lareliance.ch/wp-content/uploads/2021/01/Toucher-Thérapeutique-e1611928667740.jpg
END:VEVENT
BEGIN:VEVENT
DTSTART;TZID=Europe/Zurich:20260912T093000
DTEND;TZID=Europe/Zurich:20260913T183000
DTSTAMP:20260424T191838
CREATED:20260323T182819Z
LAST-MODIFIED:20260412T151654Z
UID:1835-1789205400-1789324200@lareliance.ch
SUMMARY:Cours de Toucher Thérapeutique® 1-2
DESCRIPTION:Méthode énergétique holistique favorisant l’harmonisation des corps physique\, émotionnel\, mental et spirituel. Cette méthode stimule le processus d’auto-guérison. Elle a été développée aux Etats-Unis et est acceptée par la médecine classique. \nInscription: Info@lareliance.ch\n
URL:https://lareliance.ch/evenement/1835/
CATEGORIES:Formation,Niveau I & II,Toucher thérapeutique
ATTACH;FMTTYPE=image/jpeg:https://lareliance.ch/wp-content/uploads/2021/01/Toucher-Thérapeutique-e1611928667740.jpg
END:VEVENT
BEGIN:VEVENT
DTSTART;TZID=Europe/Zurich:20261107T093000
DTEND;TZID=Europe/Zurich:20261108T183000
DTSTAMP:20260424T191838
CREATED:20260323T184542Z
LAST-MODIFIED:20260412T151748Z
UID:1844-1794043800-1794162600@lareliance.ch
SUMMARY:Cours de Reiki Usui II
DESCRIPTION:Au 2e niveau\, l’étudiant s’imprègne de 3 symboles précis\, (cela est naturel étant donné que nous vivons dans un monde de symboles\, ex : la parole écrite est symbole\, le signe de croix\, l’étoile de David\, la signalisation routière etc…) afin d’accéder mentalement à l’énergie Reiki et de l’utiliser à des fins spécifiques (guérison\, harmonisation\, travail à distance\, etc.). Chaque symbole est une énergie qui amplifie ainsi l’énergie transmise. C’est aussi l’apprentissage des soins à distance. \nL’enseignement de ce 2ème niveau est donné dans le cadre d’un cours de deux jours soit 16 heures. \nInscription: Info@lareliance.ch\n
URL:https://lareliance.ch/evenement/1844/
CATEGORIES:Cours de Reiki Usui,Formation,Niveau II
ATTACH;FMTTYPE=image/jpeg:https://lareliance.ch/wp-content/uploads/2018/06/mikao_usui-e1609792967269.jpg
END:VEVENT
BEGIN:VEVENT
DTSTART;TZID=Europe/Zurich:20261111T190000
DTEND;TZID=Europe/Zurich:20261111T220000
DTSTAMP:20260424T191838
CREATED:20260323T190904Z
LAST-MODIFIED:20260412T152043Z
UID:1850-1794423600-1794434400@lareliance.ch
SUMMARY:Maintenance  Toucher Thérapeutique®
DESCRIPTION:Ce sont des belles occasions d’approfondir les connaissances acquises lors d’un cours de TT. Elles permettent de donner et recevoir un soin en bénéficiant de l’énergie du groupe. \nInscription: Info@lareliance.ch\nLa maintenance aura lieu au Pavillon du Foyer de la Côte à 2035 Corcelles \n
URL:https://lareliance.ch/evenement/1850/
CATEGORIES:Formation,Maintenance toucher thérapeutique
ATTACH;FMTTYPE=image/jpeg:https://lareliance.ch/wp-content/uploads/2020/02/mains-2--e1581508313823.jpg
END:VEVENT
BEGIN:VEVENT
DTSTART;TZID=Europe/Zurich:20261128T093000
DTEND;TZID=Europe/Zurich:20261129T183000
DTSTAMP:20260424T191838
CREATED:20260323T182353Z
LAST-MODIFIED:20260412T152152Z
UID:1832-1795858200-1795977000@lareliance.ch
SUMMARY:Cours de Toucher Thérapeutique® 3
DESCRIPTION:Nous aborderons les chakras d’une manière approfondie et leur harmonisation\, le TT® à distance et l’auto-traitement\,                            les cercles de guérison\, le TT® pour les animaux. \nPrérequis: avoir suivi le cours Toucher Thérapeutique® 1-2 avec nous. \nInscription : 
URL:https://lareliance.ch/evenement/1832/
CATEGORIES:Formation,Niveau III,Toucher thérapeutique
ATTACH;FMTTYPE=image/jpeg:https://lareliance.ch/wp-content/uploads/2021/01/Toucher-Thérapeutique-e1611928667740.jpg
END:VEVENT
BEGIN:VEVENT
DTSTART;TZID=Europe/Zurich:20270120T190000
DTEND;TZID=Europe/Zurich:20270120T220000
DTSTAMP:20260424T191838
CREATED:20260323T191635Z
LAST-MODIFIED:20260412T152237Z
UID:1854-1800471600-1800482400@lareliance.ch
SUMMARY:Maintenance Reiki Usui
DESCRIPTION:Pour toutes personnes initiées au Reiki Usui\, participez à nos maintenances Reiki\, pour pratiquer et parfaire vos connaissances. \nInscription: Info@lareliance.ch\n
URL:https://lareliance.ch/evenement/maintenance-reiki-usui-26/
CATEGORIES:Formation,Maintenance Reiki Usui
ATTACH;FMTTYPE=image/jpeg:https://lareliance.ch/wp-content/uploads/2022/03/20210917_210222.jpg
END:VEVENT
BEGIN:VEVENT
DTSTART;TZID=Europe/Zurich:20270123T093000
DTEND;TZID=Europe/Zurich:20270124T183000
DTSTAMP:20260424T191838
CREATED:20260323T183258Z
LAST-MODIFIED:20260412T152313Z
UID:1838-1800696600-1800815400@lareliance.ch
SUMMARY:Cours de Reiki Usui III
DESCRIPTION:Le 3e niveau\, Reiki III Art s’adresse à ceux qui souhaite faire un travail plus en profondeur avec les patients et un travail à distance à l’aide de cristaux.  Un 4ème symbole est enseigné. L’enseignement de ce 3ème niveau est donné dans le cadre d’un cours de deux jours. Soit 15 heures de cours. \nDans les 3 niveaux\, plusieurs initiations sont transmises ce qui  permet de recevoir et d’approfondir le lien à l’énergie Reiki et d’amplifier l’énergie des symboles dans les niveaux II et III. \n
URL:https://lareliance.ch/evenement/1838/
CATEGORIES:Cours de Reiki Usui,Formation,Niveau III
ATTACH;FMTTYPE=image/jpeg:https://lareliance.ch/wp-content/uploads/2018/06/mikao_usui-e1609792967269.jpg
END:VEVENT
BEGIN:VEVENT
DTSTART;TZID=Europe/Zurich:20270206T093000
DTEND;TZID=Europe/Zurich:20270207T183000
DTSTAMP:20260424T191838
CREATED:20260323T181919Z
LAST-MODIFIED:20260412T152925Z
UID:1829-1801906200-1802025000@lareliance.ch
SUMMARY:Cours de Toucher Thérapeutique®4 + Kriya massage
DESCRIPTION:Méthode énergétique holistique favorisant l’harmonisation des corps physique\, émotionnel\, mental et spirituel. Cette méthode stimule le processus d’auto-guérison. Elle a été développée aux Etats-Unis et est acceptée par la médecine classique. Dans ce cours nous apprendrons à utiliser des pierres de soin avec le Toucher Thérapeutique®\, une harmonisation avec les 5 éléments. Ainsi qu’une méthode de massage énergétique: le kriya massage. \nPrérequis : avoir suivi les cours de Toucher Thérapeutique® 1-2\,3 avec nous.\nDans le prix du cours sont compris : manuel de cours\, certificat\, huile de massage et set de pierres  \nInscription: Info@lareliance.ch\n
URL:https://lareliance.ch/evenement/1829/
CATEGORIES:Formation,Kriya Massage (Niveau IV),Niveau III,Toucher thérapeutique
ATTACH;FMTTYPE=image/jpeg:https://lareliance.ch/wp-content/uploads/2021/01/Toucher-Thérapeutique-e1611928667740.jpg
END:VEVENT
END:VCALENDAR