BEGIN:VCALENDAR
VERSION:2.0
PRODID:-//La Reliance - ECPv4.6.23//NONSGML v1.0//EN
CALSCALE:GREGORIAN
METHOD:PUBLISH
X-WR-CALNAME:La Reliance
X-ORIGINAL-URL:https://lareliance.ch
X-WR-CALDESC:Évènements pour La Reliance
BEGIN:VEVENT
DTSTART;TZID=Europe/Zurich:20180627T190000
DTEND;TZID=Europe/Zurich:20180627T220000
DTSTAMP:20260421T110521
CREATED:20180605T073956Z
LAST-MODIFIED:20180605T073956Z
UID:487-1530126000-1530136800@lareliance.ch
SUMMARY:Maintenance Toucher Thérapeutique
DESCRIPTION:La méditation est une pratique ancestrale qui permet de nous arrêter dans notre rythme frénétique\, de nous poser et de retrouver un calme mental. Elle nous aide à prendre du recul par rapport aux événements de notre vie et ainsi d’appréhender le monde extérieur avec du recul et de la sérénité. Méditer régulièrement  apporte un bien-être immédiat. \nPar beau temps\, la méditation a lieu dans le jardin \n
URL:https://lareliance.ch/evenement/maintenance-toucher-therapeutique-2/
LOCATION:La Reliance\, Chemin des Battieux 11A\, Colombier\, 2013\, Suisse
CATEGORIES:Formation,Maintenance toucher thérapeutique,Toucher thérapeutique
END:VEVENT
BEGIN:VEVENT
DTSTART;TZID=Europe/Zurich:20180627T190000
DTEND;TZID=Europe/Zurich:20180627T220000
DTSTAMP:20260421T110521
CREATED:20180605T073956Z
LAST-MODIFIED:20180611T085917Z
UID:251-1530126000-1530136800@lareliance.ch
SUMMARY:Maintenance Toucher Thérapeutique
DESCRIPTION:Les maintenances sont de belles occasions d’approfondir les connaissances acquises lors d’un cours de TT. Elles permettent de donner et recevoir un soin en bénéficiant de l’énergie du groupe. \n
URL:https://lareliance.ch/evenement/maintenance-toucher-therapeutique/
LOCATION:La Reliance\, Chemin des Battieux 11A\, Colombier\, 2013\, Suisse
CATEGORIES:Formation,Maintenance toucher thérapeutique,Toucher thérapeutique
ATTACH;FMTTYPE=image/png:https://lareliance.ch/wp-content/uploads/2018/06/care.png
END:VEVENT
END:VCALENDAR