BEGIN:VCALENDAR
VERSION:2.0
PRODID:-//La Reliance - ECPv4.6.23//NONSGML v1.0//EN
CALSCALE:GREGORIAN
METHOD:PUBLISH
X-WR-CALNAME:La Reliance
X-ORIGINAL-URL:https://lareliance.ch
X-WR-CALDESC:Évènements pour La Reliance
BEGIN:VEVENT
DTSTART;TZID=Europe/Zurich:20180822T190000
DTEND;TZID=Europe/Zurich:20180822T220000
DTSTAMP:20260419T115103
CREATED:20180703T131717Z
LAST-MODIFIED:20180703T131717Z
UID:499-1534964400-1534975200@lareliance.ch
SUMMARY:Maintenance Toucher Thérapeutique®
DESCRIPTION:Ce sont des belles occasions d’approfondir les connaissances acquises lors d’un cours de TT. Elles permettent de donner et recevoir un soin en bénéficiant de l’énergie du groupe. \n
URL:https://lareliance.ch/evenement/therapeutique-maintenance-toucher/
CATEGORIES:Maintenance toucher thérapeutique
END:VEVENT
END:VCALENDAR